BEGIN:VCALENDAR
VERSION:2.0
PRODID:-//ConVerve GmbH//B2BMatch//EN
METHOD:PUBLISH
BEGIN:VEVENT
DTSTART:20260512T070000Z
DTEND:20260512T190000Z
SUMMARY:Galway City Tourism Industry Networking Event 2026
LOCATION:Dexcom Stadium by Connacht Rugby
DESCRIPTION:
UID:0000001
DTSTAMP:20180215T145139Z
END:VEVENT
END:VCALENDAR
